BEGIN:VCALENDAR
VERSION:2.0
PRODID:pap.georgia.gov
X-WR-TIMEZONE:America/New_York
BEGIN:VTIMEZONE
TZID:America/New_York
X-LIC-LOCATION:America/New_York
END:VTIMEZONE
BEGIN:VEVENT
UID:6088fef69e1bf
DTSTART;TZID=UTC:20130711T130000
SEQUENCE:0
TRANSP:OPAQUE
DTEND;TZID=UTC:20130711T130000
URL:https://pap.georgia.gov/events/2013-07-11/victims-visitors-day-thursday
 -july-11-2013-lawrenceville-georgia
SUMMARY:Victims Visitors' Day\, Thursday July 11\, 2013\, in Lawrenceville\
 , Georgia
CLASS:PUBLIC
DESCRIPTION:Join us for at 9 a.m.\, in the Gwinnett Justice & Administratio
 n Center\, 75 Langley Drive\, Lawrenceville\, Georgia. .
DTSTAMP:20210428T022142Z
END:VEVENT
END:VCALENDAR