BEGIN:VCALENDAR
VERSION:2.0
PRODID:pap.georgia.gov
X-WR-TIMEZONE:America/New_York
BEGIN:VTIMEZONE
TZID:America/New_York
X-LIC-LOCATION:America/New_York
END:VTIMEZONE
BEGIN:VEVENT
UID:60846cb136791
DTSTART;VALUE=DATE:20190424
SEQUENCE:0
TRANSP:OPAQUE
DTEND;VALUE=DATE:20190425
URL:https://pap.georgia.gov/events/2019-04-24/victims-visitors-day-augusta-
 georgia-april-24-2019
SUMMARY:Victims Visitors' Day\, Augusta\, Georgia\, April 24\, 2019
CLASS:PUBLIC
DESCRIPTION:Join us for Victims Visitors' Day\, April 24\, 2019\, at 9 a.m.
  at the Augusta Technical College\, Jack B. Patrick Information Technology
  Center\, 3200 Augusta Tech Drive\, Augusta\, Georgia 30906. To schedule a
 n appointment with the Parole Board\, call 404-651-6544. Additional detail
 s
X-MICROSOFT-CDO-ALLDAYEVENT:TRUE
DTSTAMP:20210424T150833Z
END:VEVENT
END:VCALENDAR