BEGIN:VCALENDAR
VERSION:2.0
PRODID:pap.georgia.gov
X-WR-TIMEZONE:America/New_York
BEGIN:VTIMEZONE
TZID:America/New_York
X-LIC-LOCATION:America/New_York
END:VTIMEZONE
BEGIN:VEVENT
UID:6140ad26238e3
DTSTART;TZID=UTC:20180411T140000
SEQUENCE:0
TRANSP:OPAQUE
DTEND;TZID=UTC:20180412T190000
URL:https://pap.georgia.gov/events/2018-04-11/victims-visitors-day-dekalb-c
 ounty-georgia-april-11-12-2018
SUMMARY:Victims Visitors' Day\, DeKalb County\, Georgia\, April 11-12\, 201
 8
CLASS:PUBLIC
DESCRIPTION:Crime victims are invited to meet with the Georgia Parole Board
  at Victims Visitors' Day on April 11 and April 12\, 2018 in DeKalb County
 . Details are here.
DTSTAMP:20210914T100942Z
END:VEVENT
END:VCALENDAR