BEGIN:VCALENDAR
VERSION:2.0
PRODID:pap.georgia.gov
X-WR-TIMEZONE:America/New_York
BEGIN:VTIMEZONE
TZID:America/New_York
X-LIC-LOCATION:America/New_York
END:VTIMEZONE
BEGIN:VEVENT
UID:6140ad2c8d7fd
DTSTART;TZID=UTC:20171017T133000
SEQUENCE:0
TRANSP:OPAQUE
DTEND;TZID=UTC:20171017T133000
URL:https://pap.georgia.gov/events/2017-10-17/victims-visitors-day-cordele-
 georgia-october-17-2017
SUMMARY:Victims Visitors' Day in Cordele\, Georgia\, October 17\, 2017
CLASS:PUBLIC
DESCRIPTION:Crime victims are invited to Victims Visitors' Day in Cordele\,
  Georgia on October 17\, 2017. More details are available.
DTSTAMP:20210914T100948Z
END:VEVENT
END:VCALENDAR