BEGIN:VCALENDAR
VERSION:2.0
PRODID:pap.georgia.gov
X-WR-TIMEZONE:America/New_York
BEGIN:VTIMEZONE
TZID:America/New_York
X-LIC-LOCATION:America/New_York
END:VTIMEZONE
BEGIN:VEVENT
UID:6140b7636efc7
DTSTART;TZID=UTC:20170406T140000
SEQUENCE:0
TRANSP:OPAQUE
DTEND;TZID=UTC:20170406T140000
URL:https://pap.georgia.gov/events/2017-04-06/dahlonega-victims-visitors-da
 y-april-6-2017
SUMMARY:Dahlonega Victims Visitors' Day\, April 6\, 2017
CLASS:PUBLIC
DESCRIPTION:The Parole Board will conduct a Victims Visitors' Day in Dahlon
 ega on April 6\, 2017\, at the Lumpkin County Courthouse located at 325 Ri
 ley Road\, Dahlonega\, Georgia 30533. Crime Victims can schedule a meeting
  with the Parole Board by calling the Georgia Office of Victim Services at
  404-651-6668. Please schedule an appointment. Read the press release.
DTSTAMP:20210914T105323Z
END:VEVENT
END:VCALENDAR