BEGIN:VCALENDAR
VERSION:2.0
PRODID:pap.georgia.gov
X-WR-TIMEZONE:America/New_York
BEGIN:VTIMEZONE
TZID:America/New_York
X-LIC-LOCATION:America/New_York
END:VTIMEZONE
BEGIN:VEVENT
UID:6140c1090b3ff
DTSTART;VALUE=DATE:20161013
SEQUENCE:0
TRANSP:OPAQUE
DTEND;VALUE=DATE:20161014
URL:https://pap.georgia.gov/events/2016-10-13/victims-visitors-day-milledge
 ville-october-13-2016
SUMMARY:Victims Visitors' Day in Milledgeville\, October 13\, 2016
CLASS:PUBLIC
DESCRIPTION:The State Board of Pardons and Paroles will meet with victims o
 f crime in Milledgeville on October 13\, 2016. The opening ceremony begins
  at 10 a.m. Confidential meetings between victims and  Parole Board membe
 r will follow. Full details are provided here.
X-MICROSOFT-CDO-ALLDAYEVENT:TRUE
DTSTAMP:20210914T113433Z
END:VEVENT
END:VCALENDAR