BEGIN:VCALENDAR
VERSION:2.0
PRODID:pap.georgia.gov
X-WR-TIMEZONE:America/New_York
BEGIN:VTIMEZONE
TZID:America/New_York
X-LIC-LOCATION:America/New_York
END:VTIMEZONE
BEGIN:VEVENT
UID:60848cbab0bdb
DTSTART;VALUE=DATE:20160419
SEQUENCE:0
TRANSP:OPAQUE
DTEND;VALUE=DATE:20160420
URL:https://pap.georgia.gov/events/2016-04-19/victims-visitors-day-jonesbor
 o-clayton-county-georgia-april-19-2016
SUMMARY:Victims Visitors' Day - Jonesboro (Clayton County)\, Georgia - Apri
 l 19\, 2016
CLASS:PUBLIC
DESCRIPTION:The State Board of Pardons and Paroles and the Georgia Office 
 of Victim Services in collaboration with the Clayton Judicial Circuit Vic
 tim-Witness Assistance Program will conduct a Victims Visitors' Day on Ap
 ril 19\, 2016\, in Jonesboro\, Georgia. The opening ceremony begins at 10 
 a.m. Victims can schedule a meeting and share information with the Parole
  Board. Call 404-656-6872 to register. Full details are available here.\n
 \nWhen: Tuesday\, April 19\, 2016\, at 10:00 A.M.Where: S. Truett Cathy Pr
 ofessional Learning Center\, 1087 Battlecreek Road\, Jonesboro\, GA 30236
X-MICROSOFT-CDO-ALLDAYEVENT:TRUE
DTSTAMP:20210424T172514Z
END:VEVENT
END:VCALENDAR