BEGIN:VCALENDAR
VERSION:2.0
PRODID:pap.georgia.gov
X-WR-TIMEZONE:America/New_York
BEGIN:VTIMEZONE
TZID:America/New_York
X-LIC-LOCATION:America/New_York
END:VTIMEZONE
BEGIN:VEVENT
UID:60813e18d2adc
DTSTART;TZID=UTC:20210422T160000
SEQUENCE:0
TRANSP:OPAQUE
DTEND;TZID=UTC:20210422T170000
URL:https://pap.georgia.gov/events/2021-04-22/munching-madd
SUMMARY:Munching with MADD\; State Board of Pardons and Paroles
CLASS:PUBLIC
DESCRIPTION:Join us for this virtual event April 22\, 2021\, during Nationa
 l Crime Victims' Rights Week. /document/document/munching-madd-2-editpdf/
 download
DTSTAMP:20210422T051256Z
END:VEVENT
END:VCALENDAR